BEGIN:VCALENDAR
VERSION:2.0
PRODID:-//Sasee Magazine - ECPv6.15.20//NONSGML v1.0//EN
CALSCALE:GREGORIAN
METHOD:PUBLISH
X-ORIGINAL-URL:https://sasee.com
X-WR-CALDESC:Events for Sasee Magazine
REFRESH-INTERVAL;VALUE=DURATION:PT1H
X-Robots-Tag:noindex
X-PUBLISHED-TTL:PT1H
BEGIN:VTIMEZONE
TZID:America/New_York
BEGIN:DAYLIGHT
TZOFFSETFROM:-0500
TZOFFSETTO:-0400
TZNAME:EDT
DTSTART:20230312T070000
END:DAYLIGHT
BEGIN:STANDARD
TZOFFSETFROM:-0400
TZOFFSETTO:-0500
TZNAME:EST
DTSTART:20231105T060000
END:STANDARD
BEGIN:DAYLIGHT
TZOFFSETFROM:-0500
TZOFFSETTO:-0400
TZNAME:EDT
DTSTART:20240310T070000
END:DAYLIGHT
BEGIN:STANDARD
TZOFFSETFROM:-0400
TZOFFSETTO:-0500
TZNAME:EST
DTSTART:20241103T060000
END:STANDARD
BEGIN:DAYLIGHT
TZOFFSETFROM:-0500
TZOFFSETTO:-0400
TZNAME:EDT
DTSTART:20250309T070000
END:DAYLIGHT
BEGIN:STANDARD
TZOFFSETFROM:-0400
TZOFFSETTO:-0500
TZNAME:EST
DTSTART:20251102T060000
END:STANDARD
END:VTIMEZONE
BEGIN:VEVENT
DTSTART;TZID=America/New_York:20241203T080000
DTEND;TZID=America/New_York:20241203T170000
DTSTAMP:20260420T054535
CREATED:20241203T142051Z
LAST-MODIFIED:20241203T142052Z
UID:10000081-1733212800-1733245200@sasee.com
SUMMARY:4th Annual Wicked Holiday Market
DESCRIPTION:The Wicked Tuna and Neptune Bistro and Raw Bar are proud to host the 4th Annual Wicked Holiday Market debuting December 7th that will continue on Saturdays from 11am-3pm through December 21st! \n\n\n\nCome down and shop\, sip\, play\, and stay! It’s fun for the whole family! Find the perfect gift while Christmas shopping with our MANY local vendors\, sip and dine at the restaurants\, let your kids enjoy our free craft activities\, and we will even have Rudolph\, Frosty\, and the Gingerbread Man photo opportunities and of course the big guy- Santa himself! The best part about this event- it is FREE ADMISSION and all Photo Opportunities are FREE as well! \n\n\n\nEvent Schedule:Saturday\, December 7th11am-3pm- Vendors\, Kids crafts11am-3pm- Rudolph Photo Opportunities11am-3pm- Santa Photo Opportunities \n\n\n\nSaturday\, December 14th11am-3pm- Vendors\, Kids crafts11am-1pm- Santa Photo Opportunities11am-3pm- The Gingerbread Man Photo Opportunities \n\n\n\nSaturday\, December 21st11am-3pm- Vendors\, Kids crafts11am-3pm- Santa Photo Opportunities11am-3pm- Frosty the Snowman Photo Opportunities
URL:https://sasee.com/event/4th-annual-wicked-holiday-market/
LOCATION:The Wicked Tuna\, 4123 US-17-BR\, Murrells Inlet\, South Carolina\, 29576\, United States
ATTACH;FMTTYPE=image/jpeg:https://sasee.com/wp-content/uploads/2024/12/wicked.jpg
END:VEVENT
END:VCALENDAR