BEGIN:VCALENDAR
VERSION:2.0
PRODID:-//Sasee Magazine - ECPv6.15.20//NONSGML v1.0//EN
CALSCALE:GREGORIAN
METHOD:PUBLISH
X-WR-CALNAME:Sasee Magazine
X-ORIGINAL-URL:https://sasee.com
X-WR-CALDESC:Events for Sasee Magazine
REFRESH-INTERVAL;VALUE=DURATION:PT1H
X-Robots-Tag:noindex
X-PUBLISHED-TTL:PT1H
BEGIN:VTIMEZONE
TZID:America/New_York
BEGIN:DAYLIGHT
TZOFFSETFROM:-0500
TZOFFSETTO:-0400
TZNAME:EDT
DTSTART:20240310T070000
END:DAYLIGHT
BEGIN:STANDARD
TZOFFSETFROM:-0400
TZOFFSETTO:-0500
TZNAME:EST
DTSTART:20241103T060000
END:STANDARD
BEGIN:DAYLIGHT
TZOFFSETFROM:-0500
TZOFFSETTO:-0400
TZNAME:EDT
DTSTART:20250309T070000
END:DAYLIGHT
BEGIN:STANDARD
TZOFFSETFROM:-0400
TZOFFSETTO:-0500
TZNAME:EST
DTSTART:20251102T060000
END:STANDARD
BEGIN:DAYLIGHT
TZOFFSETFROM:-0500
TZOFFSETTO:-0400
TZNAME:EDT
DTSTART:20260308T070000
END:DAYLIGHT
BEGIN:STANDARD
TZOFFSETFROM:-0400
TZOFFSETTO:-0500
TZNAME:EST
DTSTART:20261101T060000
END:STANDARD
END:VTIMEZONE
BEGIN:VEVENT
DTSTART;TZID=America/New_York:20250305T173000
DTEND;TZID=America/New_York:20250305T193000
DTSTAMP:20260422T112439
CREATED:20250228T150113Z
LAST-MODIFIED:20250228T150113Z
UID:10000096-1741195800-1741203000@sasee.com
SUMMARY:Wine\, Women and Chocolate
DESCRIPTION:Wine\, Women & Chocolate: The Ultimate Girls’ Night Out!  \n\n\n\n Mark your calendars! Join us Wednesday\, March 5th\, 2025\, from 5:30–7:30 PM at the Sea Trail Convention Center for a night of laughter\, indulgence\, and unforgettable memories.  \n\n\n\n What’s included in your $50 ticket?* Admission to the event * 1 drink ticket to get the party started * 1 raffle ticket for a chance to win fabulous prizes * A feast of delicious food and decadent chocolate * Exclusive shopping opportunities  \n\n\n\n A huge THANK YOU to our sponsors for making this magical evening possible!* Presenting Sponsor: Novant Health* Program Sponsor: Arbor Landing at Ocean Isle* Venue Sponsor: Sea Trail Golf Resort \n\n\n\n Don’t wait—grab your tickets now and rally the girls for a night you won’t forget! For sponsorship opportunities or to become a vendor\, contact the Chamber at 910.754.6644. \n\n\n\n Tag your squad and spread the word! Let’s make it a night to remember!
URL:https://sasee.com/event/wine-women-and-chocolate/
LOCATION:Sea Trail Convention Center\, 75 Clubhouse Rd\, Sunset Beach\, South Carolina\, 28468\, United States
ATTACH;FMTTYPE=image/jpeg:https://sasee.com/wp-content/uploads/2025/02/wine-women-choc.jpg
END:VEVENT
END:VCALENDAR