BEGIN:VCALENDAR
VERSION:2.0
PRODID:-//Sasee Magazine - ECPv6.15.20//NONSGML v1.0//EN
CALSCALE:GREGORIAN
METHOD:PUBLISH
X-ORIGINAL-URL:https://sasee.com/ro
X-WR-CALDESC:Evenimente pentru Sasee Magazine
REFRESH-INTERVAL;VALUE=DURATION:PT1H
X-Robots-Tag:noindex
X-PUBLISHED-TTL:PT1H
BEGIN:VTIMEZONE
TZID:America/New_York
BEGIN:DAYLIGHT
TZOFFSETFROM:-0500
TZOFFSETTO:-0400
TZNAME:EDT
DTSTART:20230312T070000
END:DAYLIGHT
BEGIN:STANDARD
TZOFFSETFROM:-0400
TZOFFSETTO:-0500
TZNAME:EST
DTSTART:20231105T060000
END:STANDARD
BEGIN:DAYLIGHT
TZOFFSETFROM:-0500
TZOFFSETTO:-0400
TZNAME:EDT
DTSTART:20240310T070000
END:DAYLIGHT
BEGIN:STANDARD
TZOFFSETFROM:-0400
TZOFFSETTO:-0500
TZNAME:EST
DTSTART:20241103T060000
END:STANDARD
BEGIN:DAYLIGHT
TZOFFSETFROM:-0500
TZOFFSETTO:-0400
TZNAME:EDT
DTSTART:20250309T070000
END:DAYLIGHT
BEGIN:STANDARD
TZOFFSETFROM:-0400
TZOFFSETTO:-0500
TZNAME:EST
DTSTART:20251102T060000
END:STANDARD
END:VTIMEZONE
BEGIN:VEVENT
DTSTART;TZID=America/New_York:20241107T090000
DTEND;TZID=America/New_York:20241110T180000
DTSTAMP:20260420T091529
CREATED:20241029T133230Z
LAST-MODIFIED:20241029T133238Z
UID:10000071-1730970000-1731261600@sasee.com
SUMMARY:Dickens Christmas Show & Festival
DESCRIPTION:The Dickens Christmas Show & Festivals is a unique national award-winning event comprised of a multitude of shopping and entertainment options\, for individuals and groups alike. The cornerstone of the event is a Victorian Holiday Marketplace held in the 100\,800 sq. ft. exhibit hall of the Myrtle Beach Convention Center. \n\n\n\nHere against a Victorian Holiday background\, one will find 350 plus period clad vendors hawking everything from jewelry\, crafts\, gifts\, toys\, art\, gourmet foods\, holiday décor\, and much much more. There is truly something for everyone on your holiday list\, but the fun doesn’t stop there! Strolling Victorian Musicians\, Tea Leaf Readers\, Punch & Judy Shows\, Shadow Box Displays\, a Life-Sized Historic Santa through the Ages Exhibit\, and a real live Santa\, each lend their own charm to the show. Adding to the experience are the elaborate Festival displays of Trees\, Tables\, Wreaths\, Worlds\, and Stockings. All displays are available for purchase at silent auction with 100% of the funds going to the sponsoring non-profit. \n\n\n\nOff-site offerings include Sherlock Holmes Murder Mystery Dinners\, Historical Tours and the opening of Holiday Shows at award winning local theaters. \n\n\n\nBack by popular demand is the “The Victorian Snow Globe Challenge” with a chance to win 100 presents and “Scrooge’s Hunt for the Missing Presents” which will both be held on the show floor for any one that chooses to participate. \n\n\n\nNo matter your taste or budget\, this event offers something for everyone. Whether it’s a day’s excursion or a long weekend getaway\, the Dickens Christmas Show & Festivals is the perfect way to kick off your Holiday Season… Dickens Style! \n\n\n\nMake plans to join the many that come year after year! \n\n\n\nThursday\, Nov. 7th: 9:00 AM – 6:00 PMFriday\, Nov. 8th: 9:00 AM – 8:00 PMSaturday\, Nov. 9th: 9:00 AM – 6:00 PMSunday\, Nov. 10th: Noon – 6:00 PM
URL:https://sasee.com/ro/event/dickens-christmas-show-festival/
LOCATION:Myrtle Beach Convention Center\, 2101 N Oak St\, Myrtle Beach\, South Carolina\, 29577\, United States
ATTACH;FMTTYPE=image/jpeg:https://sasee.com/wp-content/uploads/2024/10/dickens.jpg
END:VEVENT
END:VCALENDAR